BEGIN:VCALENDAR
VERSION:2.0
PRODID:-//jEvents 2.0 for Joomla//EN
CALSCALE:GREGORIAN
METHOD:PUBLISH
BEGIN:VTIMEZONE
TZID:Atlantic/Canary
BEGIN:STANDARD
DTSTART:20201104T210000
RDATE:20210328T020000
TZOFFSETFROM:+0100
TZOFFSETTO:+0000
TZNAME:Atlantic/Canary WET
END:STANDARD
BEGIN:STANDARD
DTSTART:20211031T010000
RDATE:20220327T020000
TZOFFSETFROM:+0100
TZOFFSETTO:+0000
TZNAME:Atlantic/Canary WET
END:STANDARD
BEGIN:STANDARD
DTSTART:20221030T010000
RDATE:20230326T020000
TZOFFSETFROM:+0100
TZOFFSETTO:+0000
TZNAME:Atlantic/Canary WET
END:STANDARD
BEGIN:STANDARD
DTSTART:20231029T010000
RDATE:20240331T020000
TZOFFSETFROM:+0100
TZOFFSETTO:+0000
TZNAME:Atlantic/Canary WET
END:STANDARD
BEGIN:DAYLIGHT
DTSTART:20210328T020000
RDATE:20211031T010000
TZOFFSETFROM:+0000
TZOFFSETTO:+0100
TZNAME:Atlantic/Canary WEST
END:DAYLIGHT
BEGIN:DAYLIGHT
DTSTART:20220327T020000
RDATE:20221030T010000
TZOFFSETFROM:+0000
TZOFFSETTO:+0100
TZNAME:Atlantic/Canary WEST
END:DAYLIGHT
BEGIN:DAYLIGHT
DTSTART:20230326T020000
RDATE:20231029T010000
TZOFFSETFROM:+0000
TZOFFSETTO:+0100
TZNAME:Atlantic/Canary WEST
END:DAYLIGHT
END:VTIMEZONE
BEGIN:VEVENT
UID:11b13338b5ff54073b1be8bd6951dda8
CATEGORIES:Música
CREATED:20211104T135905
SUMMARY:ANYELIA & YORIEL | Vivo, Canto, Amo, Sueño
LOCATION:Fábrica La Isleta
DESCRIPTION;ENCODING=QUOTED-PRINTABLE:<p>Vivo, Canto, Amo, Sue&ntilde;o. Un Show en ac&uacute;stico donde mostram
 os nuestras canciones en su esencia original a guitarra y voz desbordando n
 uestra energ&iacute;a a todos los presentes. Le invitamos a hacer un recorr
 ido a trav&eacute;s de los diferentes g&eacute;neros, como la Bachata, Cumb
 ia, Popurbano, Tropipop, fusi&oacute;n flamenco, as&iacute; como alguna ver
 si&oacute;n de artistas que nos han influenciado.&nbsp;</p><p><strong>+ Inf
 o: <a href="https://www.fabricaisleta.com/" target="_blank" rel="noopener n
 oreferrer">F&aacute;brica La Isleta</a></strong></p>
DTSTAMP:20260425T211839Z
DTSTART;TZID=Atlantic/Canary:20211105T210000
SEQUENCE:0
TRANSP:OPAQUE
END:VEVENT
END:VCALENDAR