BEGIN:VCALENDAR
VERSION:2.0
PRODID:-//jEvents 2.0 for Joomla//EN
CALSCALE:GREGORIAN
METHOD:PUBLISH
BEGIN:VTIMEZONE
TZID:Atlantic/Canary
BEGIN:STANDARD
DTSTART:20201110T190000
RDATE:20210328T020000
TZOFFSETFROM:+0100
TZOFFSETTO:+0000
TZNAME:Atlantic/Canary WET
END:STANDARD
BEGIN:STANDARD
DTSTART:20211031T010000
RDATE:20220327T020000
TZOFFSETFROM:+0100
TZOFFSETTO:+0000
TZNAME:Atlantic/Canary WET
END:STANDARD
BEGIN:STANDARD
DTSTART:20221030T010000
RDATE:20230326T020000
TZOFFSETFROM:+0100
TZOFFSETTO:+0000
TZNAME:Atlantic/Canary WET
END:STANDARD
BEGIN:STANDARD
DTSTART:20231029T010000
RDATE:20240331T020000
TZOFFSETFROM:+0100
TZOFFSETTO:+0000
TZNAME:Atlantic/Canary WET
END:STANDARD
BEGIN:DAYLIGHT
DTSTART:20210328T020000
RDATE:20211031T010000
TZOFFSETFROM:+0000
TZOFFSETTO:+0100
TZNAME:Atlantic/Canary WEST
END:DAYLIGHT
BEGIN:DAYLIGHT
DTSTART:20220327T020000
RDATE:20221030T010000
TZOFFSETFROM:+0000
TZOFFSETTO:+0100
TZNAME:Atlantic/Canary WEST
END:DAYLIGHT
BEGIN:DAYLIGHT
DTSTART:20230326T020000
RDATE:20231029T010000
TZOFFSETFROM:+0000
TZOFFSETTO:+0100
TZNAME:Atlantic/Canary WEST
END:DAYLIGHT
END:VTIMEZONE
BEGIN:VEVENT
UID:9a9a65a8cc27d137ee7b249cfbb4b812
CATEGORIES:Música
CREATED:20211111T160058
SUMMARY:Dúo Concuerdas | ¡Y nos vamos a Cuba!
LOCATION:Palacete Rodríguez Quegles
DESCRIPTION;ENCODING=QUOTED-PRINTABLE:\n\nLa tarde del jueves 11 de noviembre Alexander &Aacute;lvarez y C&eacute
 ;sar Cruz har&aacute;n un recorrido por distintos g&eacute;neros y estilos 
 de la m&uacute;sica cubana, para lo que interpretar&aacute;n piezas de algu
 nos de los compositores m&aacute;s importantes de la m&uacute;sica cl&aacut
 e;sica para guitarra.\n\n\nEl acceso ser&aacute; gratuito hasta completar e
 l aforo y los asistentes deber&aacute;n facilitar sus datos para cumplir co
 n los protocolos de seguridad frente al Covid-19.\n\n\n+ Info: LPA Cultura\
 n
DTSTAMP:20260425T211800Z
DTSTART;TZID=Atlantic/Canary:20211111T190000
SEQUENCE:0
TRANSP:OPAQUE
END:VEVENT
END:VCALENDAR