BEGIN:VCALENDAR
VERSION:2.0
PRODID:-//jEvents 2.0 for Joomla//EN
CALSCALE:GREGORIAN
METHOD:PUBLISH
BEGIN:VTIMEZONE
TZID:Atlantic/Canary
BEGIN:STANDARD
DTSTART:20201118T180000
RDATE:20210328T020000
TZOFFSETFROM:+0100
TZOFFSETTO:+0000
TZNAME:Atlantic/Canary WET
END:STANDARD
BEGIN:STANDARD
DTSTART:20211031T010000
RDATE:20220327T020000
TZOFFSETFROM:+0100
TZOFFSETTO:+0000
TZNAME:Atlantic/Canary WET
END:STANDARD
BEGIN:STANDARD
DTSTART:20221030T010000
RDATE:20230326T020000
TZOFFSETFROM:+0100
TZOFFSETTO:+0000
TZNAME:Atlantic/Canary WET
END:STANDARD
BEGIN:STANDARD
DTSTART:20231029T010000
RDATE:20240331T020000
TZOFFSETFROM:+0100
TZOFFSETTO:+0000
TZNAME:Atlantic/Canary WET
END:STANDARD
BEGIN:DAYLIGHT
DTSTART:20210328T020000
RDATE:20211031T010000
TZOFFSETFROM:+0000
TZOFFSETTO:+0100
TZNAME:Atlantic/Canary WEST
END:DAYLIGHT
BEGIN:DAYLIGHT
DTSTART:20220327T020000
RDATE:20221030T010000
TZOFFSETFROM:+0000
TZOFFSETTO:+0100
TZNAME:Atlantic/Canary WEST
END:DAYLIGHT
BEGIN:DAYLIGHT
DTSTART:20230326T020000
RDATE:20231029T010000
TZOFFSETFROM:+0000
TZOFFSETTO:+0100
TZNAME:Atlantic/Canary WEST
END:DAYLIGHT
END:VTIMEZONE
BEGIN:VEVENT
UID:050dd2b7947a32d416c91dfd375f3a2c
CATEGORIES:Servicios Bibliotecarios
CREATED:19700101T000000
SUMMARY:Taller infantil 'La hora del cuento'
LOCATION:Biblioteca Insular de Gran Canaria\nPlaza Hurtado de Mendoza, s/n\nLas Palm
 as de Gran Canaria\nLas Palmas\n35002\nEspaña\n928 382 809\nhttp://bibliote
 cainsular.grancanaria.com/
DESCRIPTION;ENCODING=QUOTED-PRINTABLE:\n\nActividad de narraci&oacute;n oral para fomentar la lectura y su compre
 nsi&oacute;n. Los cuentos adquieren vida propia en la voz de narradores y n
 arradoras profesionales.\n\n\nD&iacute;a 19:&nbsp;Cristina Cabrer&nbsp;(Gra
 n Canaria).\n\n\nD&iacute;a 26:&nbsp;Taller de Juglares&nbsp;(Gran Canaria)
 .\n\n\nPlazas limitadas.\n\n\nActividad sujeta a inscripci&oacute;n y con a
 foro limitado, consulta el Facebook de la Biblioteca Insular de Gran Canari
 a.\n\n\n+ Info: Biblioteca Insular\n
DTSTAMP:20260425T204919Z
DTSTART;TZID=Atlantic/Canary:20211119T180000
SEQUENCE:0
RRULE:FREQ=WEEKLY;UNTIL=20211128T000000Z;INTERVAL=1;BYDAY=FR
TRANSP:OPAQUE
END:VEVENT
END:VCALENDAR