BEGIN:VCALENDAR
VERSION:2.0
PRODID:-//jEvents 2.0 for Joomla//EN
CALSCALE:GREGORIAN
METHOD:PUBLISH
BEGIN:VTIMEZONE
TZID:Atlantic/Canary
BEGIN:STANDARD
DTSTART:20201210T200000
RDATE:20210328T020000
TZOFFSETFROM:+0100
TZOFFSETTO:+0000
TZNAME:Atlantic/Canary WET
END:STANDARD
BEGIN:STANDARD
DTSTART:20211031T010000
RDATE:20220327T020000
TZOFFSETFROM:+0100
TZOFFSETTO:+0000
TZNAME:Atlantic/Canary WET
END:STANDARD
BEGIN:STANDARD
DTSTART:20221030T010000
RDATE:20230326T020000
TZOFFSETFROM:+0100
TZOFFSETTO:+0000
TZNAME:Atlantic/Canary WET
END:STANDARD
BEGIN:STANDARD
DTSTART:20231029T010000
RDATE:20240331T020000
TZOFFSETFROM:+0100
TZOFFSETTO:+0000
TZNAME:Atlantic/Canary WET
END:STANDARD
BEGIN:DAYLIGHT
DTSTART:20210328T020000
RDATE:20211031T010000
TZOFFSETFROM:+0000
TZOFFSETTO:+0100
TZNAME:Atlantic/Canary WEST
END:DAYLIGHT
BEGIN:DAYLIGHT
DTSTART:20220327T020000
RDATE:20221030T010000
TZOFFSETFROM:+0000
TZOFFSETTO:+0100
TZNAME:Atlantic/Canary WEST
END:DAYLIGHT
BEGIN:DAYLIGHT
DTSTART:20230326T020000
RDATE:20231029T010000
TZOFFSETFROM:+0000
TZOFFSETTO:+0100
TZNAME:Atlantic/Canary WEST
END:DAYLIGHT
END:VTIMEZONE
BEGIN:VEVENT
UID:7fde9cce5de3d9e9acf3f72d800f52a5
CATEGORIES:Música, Artes escénicas / Danza
CREATED:20211206T125259
SUMMARY:YEE HAW | La Banda de Otro
LOCATION:Teatro Pérez Galdós
DESCRIPTION;ENCODING=QUOTED-PRINTABLE:\n\nYEE-HAW&nbsp;es un grito de entusiasmo, una expresi&oacute;n de alegr&i
 acute;a, pura onomatopeya de&nbsp;la felicidad que nos traslada al viejo Oe
 ste&hellip;&nbsp;de Andalu&iacute;siana.\n\n\nSumergidos en un universo mus
 ical inspirado en el&nbsp;Country, el Ragtime y el Bluegrass,&nbsp;La Banda
  de Otro&nbsp;nos ofrece un (des)con-cierto tan especial como ellos mismos.
  Un espect&aacute;culo de Circo donde es imposible distinguir a los m&uacut
 e;sicos de los malabaristas,o de los payasos.\n\n\n+ Info: Teatro P&eacute;
 rez Gald&oacute;s\n&nbsp;
DTSTAMP:20260425T224133Z
DTSTART;TZID=Atlantic/Canary:20211211T200000
SEQUENCE:0
TRANSP:OPAQUE
END:VEVENT
END:VCALENDAR