BEGIN:VCALENDAR
VERSION:2.0
PRODID:-//jEvents 2.0 for Joomla//EN
CALSCALE:GREGORIAN
METHOD:PUBLISH
BEGIN:VTIMEZONE
TZID:Atlantic/Canary
BEGIN:STANDARD
DTSTART:20201221T200000
RDATE:20210328T020000
TZOFFSETFROM:+0100
TZOFFSETTO:+0000
TZNAME:Atlantic/Canary WET
END:STANDARD
BEGIN:STANDARD
DTSTART:20211031T010000
RDATE:20220327T020000
TZOFFSETFROM:+0100
TZOFFSETTO:+0000
TZNAME:Atlantic/Canary WET
END:STANDARD
BEGIN:STANDARD
DTSTART:20221030T010000
RDATE:20230326T020000
TZOFFSETFROM:+0100
TZOFFSETTO:+0000
TZNAME:Atlantic/Canary WET
END:STANDARD
BEGIN:STANDARD
DTSTART:20231029T010000
RDATE:20240331T020000
TZOFFSETFROM:+0100
TZOFFSETTO:+0000
TZNAME:Atlantic/Canary WET
END:STANDARD
BEGIN:DAYLIGHT
DTSTART:20210328T020000
RDATE:20211031T010000
TZOFFSETFROM:+0000
TZOFFSETTO:+0100
TZNAME:Atlantic/Canary WEST
END:DAYLIGHT
BEGIN:DAYLIGHT
DTSTART:20220327T020000
RDATE:20221030T010000
TZOFFSETFROM:+0000
TZOFFSETTO:+0100
TZNAME:Atlantic/Canary WEST
END:DAYLIGHT
BEGIN:DAYLIGHT
DTSTART:20230326T020000
RDATE:20231029T010000
TZOFFSETFROM:+0000
TZOFFSETTO:+0100
TZNAME:Atlantic/Canary WEST
END:DAYLIGHT
END:VTIMEZONE
BEGIN:VEVENT
UID:f15b0ec3c45e46f78f7a4474bb1b3b8d
CATEGORIES:Música, Festividades / Conmemoraciones
CREATED:20211221T155228
SUMMARY:Concierto de La Trova | Trovamundo en Navidad
LOCATION:Plaza de Santa Ana
DESCRIPTION;ENCODING=QUOTED-PRINTABLE:\n\nLa Trova&nbsp;se subir&aacute; al escenario del coraz&oacute;n de Vegue
 ta donde presentar&aacute; &laquo;Trovamundo en Navidad&raquo;. Un proyecto
  con el que la agrupaci&oacute;n se reinventa tras el inicio de la pandemia
 , atrevi&eacute;ndose con nuevos sonidos y ritmos renovados que conjugan cu
 lturas y cantares de diferentes lugares como Italia, Francia, Espa&ntilde;a
 , Cuba, Puerto Rico, M&eacute;xico, Estados Unidos o Rep&uacute;blica Domin
 icana, entre otros.\n\n\n+ Info: LPA Cultura\n
DTSTAMP:20260425T224025Z
DTSTART;TZID=Atlantic/Canary:20211222T200000
SEQUENCE:0
TRANSP:OPAQUE
END:VEVENT
END:VCALENDAR