BEGIN:VCALENDAR
VERSION:2.0
PRODID:-//jEvents 2.0 for Joomla//EN
CALSCALE:GREGORIAN
METHOD:PUBLISH
BEGIN:VTIMEZONE
TZID:Atlantic/Canary
BEGIN:STANDARD
DTSTART:20211031T010000
RDATE:20220327T020000
TZOFFSETFROM:+0100
TZOFFSETTO:+0000
TZNAME:Atlantic/Canary WET
END:STANDARD
BEGIN:STANDARD
DTSTART:20221030T010000
RDATE:20230326T020000
TZOFFSETFROM:+0100
TZOFFSETTO:+0000
TZNAME:Atlantic/Canary WET
END:STANDARD
BEGIN:STANDARD
DTSTART:20231029T010000
RDATE:20240331T020000
TZOFFSETFROM:+0100
TZOFFSETTO:+0000
TZNAME:Atlantic/Canary WET
END:STANDARD
BEGIN:DAYLIGHT
DTSTART:20210509T190000
RDATE:20211031T010000
TZOFFSETFROM:+0000
TZOFFSETTO:+0100
TZNAME:Atlantic/Canary WEST
END:DAYLIGHT
BEGIN:DAYLIGHT
DTSTART:20220327T020000
RDATE:20221030T010000
TZOFFSETFROM:+0000
TZOFFSETTO:+0100
TZNAME:Atlantic/Canary WEST
END:DAYLIGHT
BEGIN:DAYLIGHT
DTSTART:20230326T020000
RDATE:20231029T010000
TZOFFSETFROM:+0000
TZOFFSETTO:+0100
TZNAME:Atlantic/Canary WEST
END:DAYLIGHT
END:VTIMEZONE
BEGIN:VEVENT
UID:4cd9f9b4c0b74470ffd74369316e0f22
CATEGORIES:Audiovisuales / Cine
CREATED:20220513T093933
SUMMARY:A WOMAN UNDER THE INFLUENCE | Ciclo John Cassavetes | Filmoteca Canaria
LOCATION:Teatro Guiniguada
DESCRIPTION;ENCODING=QUOTED-PRINTABLE:\n\nFilmoteca Canaria&nbsp;dedica en los meses de abril y mayo un ciclo de 
 cine al director americano&nbsp;John Cassavetes&nbsp;(1929-1989), maestro d
 el cine directo, un cine que hablaba, y todav&iacute;a habla, de lo que &la
 quo;no sabemos&raquo;, seg&uacute;n sus propias palabras.\n\n\nLas pel&iacu
 te;culas que se podr&aacute;n ver durante este ciclo en versi&oacute;n orig
 inal subtitulada en castellano corresponden a los a&ntilde;os tempranos de 
 su producci&oacute;n, que van de 1959 hasta 1977, y que hoy est&aacute;n co
 nsideradas pel&iacute;culas de culto, que dan fe de un proceso personal a c
 ontracorriente y siempre comprometido.\n\n\nA WOMAN UNDER THE INFLUENCE (19
 74)\n\n\nSinopsis: Nick (Peter Falk) tiene que cargar con la responsabilida
 d de cuidar a su mujer (Gena Rowlands) que padece inestabilidad emocional. 
 Lucha sin descanso para mantener un ambiente de normalidad a pesar del anor
 mal comportamiento de su mujer; sin embargo, llega un momento en que la sit
 uaci&oacute;n afecta a sus hijos, de modo que no tendr&aacute; m&aacute;s r
 emedio que tomar ciertas medidas.\n\n\n+ Info: Teatro Guiniguada\n&nbsp;
DTSTAMP:20260425T141932Z
DTSTART;TZID=Atlantic/Canary:20220510T190000
SEQUENCE:0
TRANSP:OPAQUE
END:VEVENT
END:VCALENDAR