BEGIN:VCALENDAR
VERSION:2.0
PRODID:-//jEvents 2.0 for Joomla//EN
CALSCALE:GREGORIAN
METHOD:PUBLISH
BEGIN:VTIMEZONE
TZID:Atlantic/Canary
BEGIN:STANDARD
DTSTART:20201025T010000
RDATE:20210328T020000
TZOFFSETFROM:+0100
TZOFFSETTO:+0000
TZNAME:Atlantic/Canary WET
END:STANDARD
BEGIN:STANDARD
DTSTART:20211031T010000
RDATE:20220327T020000
TZOFFSETFROM:+0100
TZOFFSETTO:+0000
TZNAME:Atlantic/Canary WET
END:STANDARD
BEGIN:STANDARD
DTSTART:20221030T010000
RDATE:20230326T020000
TZOFFSETFROM:+0100
TZOFFSETTO:+0000
TZNAME:Atlantic/Canary WET
END:STANDARD
BEGIN:STANDARD
DTSTART:20231029T010000
RDATE:20240331T020000
TZOFFSETFROM:+0100
TZOFFSETTO:+0000
TZNAME:Atlantic/Canary WET
END:STANDARD
BEGIN:DAYLIGHT
DTSTART:20200512T000000
RDATE:20201025T010000
TZOFFSETFROM:+0000
TZOFFSETTO:+0100
TZNAME:Atlantic/Canary WEST
END:DAYLIGHT
BEGIN:DAYLIGHT
DTSTART:20210328T020000
RDATE:20211031T010000
TZOFFSETFROM:+0000
TZOFFSETTO:+0100
TZNAME:Atlantic/Canary WEST
END:DAYLIGHT
BEGIN:DAYLIGHT
DTSTART:20220327T020000
RDATE:20221030T010000
TZOFFSETFROM:+0000
TZOFFSETTO:+0100
TZNAME:Atlantic/Canary WEST
END:DAYLIGHT
BEGIN:DAYLIGHT
DTSTART:20230326T020000
RDATE:20231029T010000
TZOFFSETFROM:+0000
TZOFFSETTO:+0100
TZNAME:Atlantic/Canary WEST
END:DAYLIGHT
END:VTIMEZONE
BEGIN:VEVENT
UID:785601991786bb7ff574363e65031cd4
CATEGORIES:Artes escénicas / Danza
CREATED:20220515T163018
SUMMARY:Transitando | Festival de Danza Contemporánea
LOCATION:Edificio Miller
DESCRIPTION;ENCODING=QUOTED-PRINTABLE:<p><strong>TRANSITANDO, festival de danza contempor&aacute;nea</strong>&nbs
 p;regresa a la capital . La iniciativa creada hace un a&ntilde;o por la Fun
 daci&oacute;n DISA que cuenta con el apoyo del Ayuntamiento de Las Palmas d
 e Gran Canaria tendr&aacute; lugar en el parque&nbsp;<strong>Juan Pablo II<
 /strong>&nbsp;y todo lo recaudado con la venta de entradas ser&aacute; dona
 do &iacute;ntegramente a la Fundaci&oacute;n Canaria Yrichen, concretamente
  a su proyecto&nbsp;<strong>Casa Maday</strong>.</p><p><strong>+ Info:<a hr
 ef="http://lpacultura.com/es/noticias/31-varios/1765-regresa-la-segunda-edi
 cion-del-festival-de-danza-contemporanea-transitando" target="_blank" rel="
 noopener noreferrer"> LPA Cultura</a></strong></p><div id="gtx-trans" style
 ="position: absolute; left: 32px; top: 85px;">&nbsp;</div>
DTSTAMP:20260425T192107Z
DTSTART;TZID=Atlantic/Canary;VALUE=DATE:20210513
DTEND;TZID=Atlantic/Canary;VALUE=DATE:20220516
SEQUENCE:0
TRANSP:OPAQUE
END:VEVENT
END:VCALENDAR