BEGIN:VCALENDAR
VERSION:2.0
PRODID:-//jEvents 2.0 for Joomla//EN
CALSCALE:GREGORIAN
METHOD:PUBLISH
BEGIN:VTIMEZONE
TZID:Atlantic/Canary
BEGIN:STANDARD
DTSTART:20211031T010000
RDATE:20220327T020000
TZOFFSETFROM:+0100
TZOFFSETTO:+0000
TZNAME:Atlantic/Canary WET
END:STANDARD
BEGIN:STANDARD
DTSTART:20221030T010000
RDATE:20230326T020000
TZOFFSETFROM:+0100
TZOFFSETTO:+0000
TZNAME:Atlantic/Canary WET
END:STANDARD
BEGIN:STANDARD
DTSTART:20231029T010000
RDATE:20240331T020000
TZOFFSETFROM:+0100
TZOFFSETTO:+0000
TZNAME:Atlantic/Canary WET
END:STANDARD
BEGIN:DAYLIGHT
DTSTART:20210608T000000
RDATE:20211031T010000
TZOFFSETFROM:+0000
TZOFFSETTO:+0100
TZNAME:Atlantic/Canary WEST
END:DAYLIGHT
BEGIN:DAYLIGHT
DTSTART:20220327T020000
RDATE:20221030T010000
TZOFFSETFROM:+0000
TZOFFSETTO:+0100
TZNAME:Atlantic/Canary WEST
END:DAYLIGHT
BEGIN:DAYLIGHT
DTSTART:20230326T020000
RDATE:20231029T010000
TZOFFSETFROM:+0000
TZOFFSETTO:+0100
TZNAME:Atlantic/Canary WEST
END:DAYLIGHT
END:VTIMEZONE
BEGIN:VEVENT
UID:12ed841751a58d8b44c7d130e9b2025e
CATEGORIES:Exposiciones / Museos, Festividades / Conmemoraciones
CREATED:20220529T011649
SUMMARY:Fiestas Fundacionales | Exposición "La Ciudad eres tú". Obras de Ángel Luis Aldai
LOCATION:Castillo de Mata
DESCRIPTION;ENCODING=QUOTED-PRINTABLE:<div class="kvgmc6g5 cxmmr5t8 oygrvhab hcukyx3x c1et5uql ii04i59q"><p>El&nb
 sp;Museo Castillo de Mata&nbsp;ceder&aacute; sus salas&nbsp;a partir del 9 
 de junio a la exposici&oacute;n &laquo;La ciudad eres t&uacute;&raquo; de <
 strong>&Aacute;ngel Luis Alday</strong>.&nbsp;</p><p><strong>Horario: </str
 ong></p><p>De lunes a viernes de 10:00 a 14:00 h. y s&aacute;bados y primer
  domingo de mes de 11:00 a 14:00 h. Entrada libre hasta completar aforo.</p
 ><h4><strong>Programa completo de las Fiestas Fundacionales&nbsp;<a href="h
 http://lpacultura.com/images/phocadownload/PROGRAMA_FFLPA_2022.pdf" target=
 "_blank" rel="noopener noreferrer">AQU&Iacute;</a>.<a href="http://lpacultu
 ra.com/.../programas_fundacionales_2021.pdf"><br /></a></strong></h4><div><
 strong>+ Info: <a href="http://lpacultura.com/es/noticias-fiestas/1768-el-5
 44-aniversario-la-ciudad-arrancara-bajo-la-batuta-de-jose-brito-y-su-pregon
 " target="_blank" rel="noopener noreferrer">LPA Cultura</a></strong></div><
 /div>
DTSTAMP:20260420T182820Z
DTSTART;TZID=Atlantic/Canary;VALUE=DATE:20220609
DTEND;TZID=Atlantic/Canary;VALUE=DATE:20220801
SEQUENCE:0
TRANSP:OPAQUE
END:VEVENT
END:VCALENDAR